BEGIN:VCALENDAR
PRODID:Nexudus
VERSION:2.0
BEGIN:VTIMEZONE
TZID:America/Los_Angeles
X-LIC-LOCATION:America/Los_Angeles
BEGIN:STANDARD
DTSTART:20241103T020000
RRULE:FREQ=YEARLY;BYDAY=1SU;BYMONTH=11
TZNAME:PST
TZOFFSETFROM:-0700
TZOFFSETTO:-0800
END:STANDARD
BEGIN:DAYLIGHT
DTSTART:20250309T020000
RRULE:FREQ=YEARLY;BYDAY=2SU;BYMONTH=3
TZNAME:PDT
TZOFFSETFROM:-0800
TZOFFSETTO:-0700
END:DAYLIGHT
END:VTIMEZONE
BEGIN:VEVENT
DESCRIPTION:\nEvent link: https://thehivery.spaces.nexudus.com/en/events/vi
 ew/911058245/entrepreneur-s-circle--brand-naming-with-margaret-wolfson\n
DTEND;TZID=America/Los_Angeles:20190321T134500
DTSTAMP:20260422T024411Z
DTSTART;TZID=America/Los_Angeles:20190321T123000
LOCATION:The Hivery
SEQUENCE:0
SUMMARY:Entrepreneur's Circle: Brand Naming with Margaret Wolfson
UID:357995b2-2f98-4def-98c9-d1946c32369e
END:VEVENT
END:VCALENDAR
