BEGIN:VCALENDAR
PRODID:Nexudus
VERSION:2.0
BEGIN:VTIMEZONE
TZID:America/Los_Angeles
X-LIC-LOCATION:America/Los_Angeles
BEGIN:STANDARD
DTSTART:20241103T020000
RRULE:FREQ=YEARLY;BYDAY=1SU;BYMONTH=11
TZNAME:PST
TZOFFSETFROM:-0700
TZOFFSETTO:-0800
END:STANDARD
BEGIN:DAYLIGHT
DTSTART:20250309T020000
RRULE:FREQ=YEARLY;BYDAY=2SU;BYMONTH=3
TZNAME:PDT
TZOFFSETFROM:-0800
TZOFFSETTO:-0700
END:DAYLIGHT
END:VTIMEZONE
BEGIN:VEVENT
DESCRIPTION:\nEvent link: https://thehivery.spaces.nexudus.com/en/events/vi
 ew/830222455/the-product-of-you--a-two-week-personal-branding-workshop-wit
 h-grace-kraaijvanger\n
DTEND;TZID=America/Los_Angeles:20190319T123000
DTSTAMP:20260422T024216Z
DTSTART;TZID=America/Los_Angeles:20190319T093000
LOCATION:The Hivery
SEQUENCE:0
SUMMARY:The Product of You: A Two-Week Personal Branding Workshop with Grac
 e Kraaijvanger
UID:5548941f-0d90-4b17-bce8-40298a2d1fa6
END:VEVENT
END:VCALENDAR
