BEGIN:VCALENDAR
PRODID:Nexudus
VERSION:2.0
BEGIN:VTIMEZONE
TZID:America/Los_Angeles
X-LIC-LOCATION:America/Los_Angeles
BEGIN:STANDARD
DTSTART:20241103T020000
RRULE:FREQ=YEARLY;BYDAY=1SU;BYMONTH=11
TZNAME:PST
TZOFFSETFROM:-0700
TZOFFSETTO:-0800
END:STANDARD
BEGIN:DAYLIGHT
DTSTART:20250309T020000
RRULE:FREQ=YEARLY;BYDAY=2SU;BYMONTH=3
TZNAME:PDT
TZOFFSETFROM:-0800
TZOFFSETTO:-0700
END:DAYLIGHT
END:VTIMEZONE
BEGIN:VEVENT
DESCRIPTION:\nEvent link: https://thehivery.spaces.nexudus.com/en/events/vi
 ew/830064423/the-product-of-you-information-session\n
DTEND;TZID=America/Los_Angeles:20190226T103000
DTSTAMP:20260422T040450Z
DTSTART;TZID=America/Los_Angeles:20190226T093000
LOCATION:The Hivery
SEQUENCE:0
SUMMARY:The Product of You Information Session
UID:ac37ae84-314d-44aa-9d84-8e5e44fdde27
END:VEVENT
END:VCALENDAR
