BEGIN:VCALENDAR
PRODID:Nexudus
VERSION:2.0
BEGIN:VTIMEZONE
TZID:America/Los_Angeles
X-LIC-LOCATION:America/Los_Angeles
BEGIN:STANDARD
DTSTART:20241103T020000
RRULE:FREQ=YEARLY;BYDAY=1SU;BYMONTH=11
TZNAME:PST
TZOFFSETFROM:-0700
TZOFFSETTO:-0800
END:STANDARD
BEGIN:DAYLIGHT
DTSTART:20250309T020000
RRULE:FREQ=YEARLY;BYDAY=2SU;BYMONTH=3
TZNAME:PDT
TZOFFSETFROM:-0800
TZOFFSETTO:-0700
END:DAYLIGHT
END:VTIMEZONE
BEGIN:VEVENT
DESCRIPTION:\nEvent link: https://thehivery.spaces.nexudus.com/en/events/vi
 ew/799753955/the-hivery-s-women-s-march-poster-making-party\n
DTEND;TZID=America/Los_Angeles:20190118T160000
DTSTAMP:20260422T053541Z
DTSTART;TZID=America/Los_Angeles:20190118T140000
LOCATION:The Hivery
SEQUENCE:0
SUMMARY:The Hivery's Women's March Poster Making Party
UID:dfdcf8e4-e7cf-4416-9436-497f7c0d064c
END:VEVENT
END:VCALENDAR
