BEGIN:VCALENDAR
PRODID:Nexudus
VERSION:2.0
BEGIN:VTIMEZONE
TZID:America/Los_Angeles
X-LIC-LOCATION:America/Los_Angeles
BEGIN:STANDARD
DTSTART:20241103T020000
RRULE:FREQ=YEARLY;BYDAY=1SU;BYMONTH=11
TZNAME:PST
TZOFFSETFROM:-0700
TZOFFSETTO:-0800
END:STANDARD
BEGIN:DAYLIGHT
DTSTART:20250309T020000
RRULE:FREQ=YEARLY;BYDAY=2SU;BYMONTH=3
TZNAME:PDT
TZOFFSETFROM:-0800
TZOFFSETTO:-0700
END:DAYLIGHT
END:VTIMEZONE
BEGIN:VEVENT
DESCRIPTION:\nEvent link: https://thehivery.spaces.nexudus.com/en/events/vi
 ew/742608867/wellness-wednesday--meditation---sound-healing-with-rachel-ro
 ssitto\n
DTEND;TZID=America/Los_Angeles:20181114T130000
DTSTAMP:20260422T081414Z
DTSTART;TZID=America/Los_Angeles:20181114T123000
LOCATION:The Hivery
SEQUENCE:0
SUMMARY:Wellness Wednesday: Meditation + Sound Healing with Rachel Rossitto
UID:fd57ef54-6f23-4581-9c29-e0f5f9c8a802
END:VEVENT
END:VCALENDAR
