BEGIN:VCALENDAR
PRODID:Nexudus
VERSION:2.0
BEGIN:VTIMEZONE
TZID:America/Los_Angeles
X-LIC-LOCATION:America/Los_Angeles
BEGIN:STANDARD
DTSTART:20241103T020000
RRULE:FREQ=YEARLY;BYDAY=1SU;BYMONTH=11
TZNAME:PST
TZOFFSETFROM:-0700
TZOFFSETTO:-0800
END:STANDARD
BEGIN:DAYLIGHT
DTSTART:20250309T020000
RRULE:FREQ=YEARLY;BYDAY=2SU;BYMONTH=3
TZNAME:PDT
TZOFFSETFROM:-0800
TZOFFSETTO:-0700
END:DAYLIGHT
END:VTIMEZONE
BEGIN:VEVENT
DESCRIPTION:\nEvent link: https://thehivery.spaces.nexudus.com/en/events/vi
 ew/727662984/entrepreneur-s-circle--why-persistence-is-critical-to-achievi
 ng-success-with-persist-game-co-founders\n
DTEND;TZID=America/Los_Angeles:20181115T134500
DTSTAMP:20260422T081302Z
DTSTART;TZID=America/Los_Angeles:20181115T123000
LOCATION:The Hivery
SEQUENCE:0
SUMMARY:Entrepreneur's Circle: Why Persistence Is Critical To Achieving Suc
 cess with Persist Game Co-Founders
UID:a1317266-3027-4a3d-884d-8b8bc07b0b22
END:VEVENT
END:VCALENDAR
