BEGIN:VCALENDAR
PRODID:Nexudus
VERSION:2.0
BEGIN:VTIMEZONE
TZID:America/Los_Angeles
X-LIC-LOCATION:America/Los_Angeles
BEGIN:STANDARD
DTSTART:20241103T020000
RRULE:FREQ=YEARLY;BYDAY=1SU;BYMONTH=11
TZNAME:PST
TZOFFSETFROM:-0700
TZOFFSETTO:-0800
END:STANDARD
BEGIN:DAYLIGHT
DTSTART:20250309T020000
RRULE:FREQ=YEARLY;BYDAY=2SU;BYMONTH=3
TZNAME:PDT
TZOFFSETFROM:-0800
TZOFFSETTO:-0700
END:DAYLIGHT
END:VTIMEZONE
BEGIN:VEVENT
DESCRIPTION:\nEvent link: https://thehivery.spaces.nexudus.com/en/events/vi
 ew/682299962/entrepreneur-s-circle--editorial-strategy-for-thought-leaders
 hip-with-rachel-lehmann-haupt\n
DTEND;TZID=America/Los_Angeles:20180920T134500
DTSTAMP:20260422T110511Z
DTSTART;TZID=America/Los_Angeles:20180920T123000
LOCATION:The Hivery
SEQUENCE:0
SUMMARY:Entrepreneur's Circle: Editorial Strategy for Thought-Leadership wi
 th Rachel Lehmann-Haupt
UID:e31634fb-8c88-4167-9679-4ab02e638c82
END:VEVENT
END:VCALENDAR
