BEGIN:VCALENDAR
PRODID:Nexudus
VERSION:2.0
BEGIN:VTIMEZONE
TZID:America/Los_Angeles
X-LIC-LOCATION:America/Los_Angeles
BEGIN:STANDARD
DTSTART:20241103T020000
RRULE:FREQ=YEARLY;BYDAY=1SU;BYMONTH=11
TZNAME:PST
TZOFFSETFROM:-0700
TZOFFSETTO:-0800
END:STANDARD
BEGIN:DAYLIGHT
DTSTART:20250309T020000
RRULE:FREQ=YEARLY;BYDAY=2SU;BYMONTH=3
TZNAME:PDT
TZOFFSETFROM:-0800
TZOFFSETTO:-0700
END:DAYLIGHT
END:VTIMEZONE
BEGIN:VEVENT
DESCRIPTION:\nEvent link: https://thehivery.spaces.nexudus.com/en/events/vi
 ew/665977331/creativity-circle--build-your-own-arrangement-with-matilda-s-
 magnolias-flowerbar\n
DTEND;TZID=America/Los_Angeles:20180906T134500
DTSTAMP:20260422T124203Z
DTSTART;TZID=America/Los_Angeles:20180906T123000
LOCATION:The Hivery
SEQUENCE:0
SUMMARY:Creativity Circle: Build Your Own Arrangement with Matilda's Magnol
 ias Flowerbar
UID:44ad9ce1-650d-4d1b-8f35-d2e073126fb2
END:VEVENT
END:VCALENDAR
