BEGIN:VCALENDAR
PRODID:Nexudus
VERSION:2.0
BEGIN:VTIMEZONE
TZID:America/Los_Angeles
X-LIC-LOCATION:America/Los_Angeles
BEGIN:STANDARD
DTSTART:20241103T020000
RRULE:FREQ=YEARLY;BYDAY=1SU;BYMONTH=11
TZNAME:PST
TZOFFSETFROM:-0700
TZOFFSETTO:-0800
END:STANDARD
BEGIN:DAYLIGHT
DTSTART:20250309T020000
RRULE:FREQ=YEARLY;BYDAY=2SU;BYMONTH=3
TZNAME:PDT
TZOFFSETFROM:-0800
TZOFFSETTO:-0700
END:DAYLIGHT
END:VTIMEZONE
BEGIN:VEVENT
DESCRIPTION:\nEvent link: https://thehivery.spaces.nexudus.com/en/events/vi
 ew/657931580/the-product-of-you-information-session\n
DTEND;TZID=America/Los_Angeles:20180924T110000
DTSTAMP:20260422T110519Z
DTSTART;TZID=America/Los_Angeles:20180924T100000
LOCATION:The Hivery
SEQUENCE:0
SUMMARY:The Product of You Information Session
UID:49b997f2-9d09-4a04-b96c-209810125723
END:VEVENT
END:VCALENDAR
