BEGIN:VCALENDAR
PRODID:Nexudus
VERSION:2.0
BEGIN:VTIMEZONE
TZID:America/Los_Angeles
X-LIC-LOCATION:America/Los_Angeles
BEGIN:STANDARD
DTSTART:20241103T020000
RRULE:FREQ=YEARLY;BYDAY=1SU;BYMONTH=11
TZNAME:PST
TZOFFSETFROM:-0700
TZOFFSETTO:-0800
END:STANDARD
BEGIN:DAYLIGHT
DTSTART:20250309T020000
RRULE:FREQ=YEARLY;BYDAY=2SU;BYMONTH=3
TZNAME:PDT
TZOFFSETFROM:-0800
TZOFFSETTO:-0700
END:DAYLIGHT
END:VTIMEZONE
BEGIN:VEVENT
DESCRIPTION:\nEvent link: https://thehivery.spaces.nexudus.com/en/events/vi
 ew/634096483/inspiration-circle--the-psychology-of-color---design-with-jen
 nifer-butler\n
DTEND;TZID=America/Los_Angeles:20180726T134500
DTSTAMP:20260422T135922Z
DTSTART;TZID=America/Los_Angeles:20180726T123000
LOCATION:The Hivery
SEQUENCE:0
SUMMARY:Inspiration Circle: The Psychology of Color & Design with Jennifer 
 Butler 
UID:1e0c50ae-31d5-4908-9b4d-73b3921f9806
END:VEVENT
END:VCALENDAR
