BEGIN:VCALENDAR
PRODID:Nexudus
VERSION:2.0
BEGIN:VTIMEZONE
TZID:America/Los_Angeles
X-LIC-LOCATION:America/Los_Angeles
BEGIN:STANDARD
DTSTART:20241103T020000
RRULE:FREQ=YEARLY;BYDAY=1SU;BYMONTH=11
TZNAME:PST
TZOFFSETFROM:-0700
TZOFFSETTO:-0800
END:STANDARD
BEGIN:DAYLIGHT
DTSTART:20250309T020000
RRULE:FREQ=YEARLY;BYDAY=2SU;BYMONTH=3
TZNAME:PDT
TZOFFSETFROM:-0800
TZOFFSETTO:-0700
END:DAYLIGHT
END:VTIMEZONE
BEGIN:VEVENT
DESCRIPTION:\nEvent link: https://thehivery.spaces.nexudus.com/en/events/vi
 ew/595547960/discovery-circle-with-dr--renee-engeln--northwestern-universi
 ty\n
DTEND;TZID=America/Los_Angeles:20180525T104500
DTSTAMP:20260422T171000Z
DTSTART;TZID=America/Los_Angeles:20180525T093000
LOCATION:The Hivery
SEQUENCE:0
SUMMARY:Discovery Circle with Dr. Renee Engeln\, Northwestern University
UID:bd5729a3-779e-4dea-b588-2086608362c6
END:VEVENT
END:VCALENDAR
