BEGIN:VCALENDAR
PRODID:Nexudus
VERSION:2.0
BEGIN:VTIMEZONE
TZID:America/Los_Angeles
X-LIC-LOCATION:America/Los_Angeles
BEGIN:STANDARD
DTSTART:20241103T020000
RRULE:FREQ=YEARLY;BYDAY=1SU;BYMONTH=11
TZNAME:PST
TZOFFSETFROM:-0700
TZOFFSETTO:-0800
END:STANDARD
BEGIN:DAYLIGHT
DTSTART:20250309T020000
RRULE:FREQ=YEARLY;BYDAY=2SU;BYMONTH=3
TZNAME:PDT
TZOFFSETFROM:-0800
TZOFFSETTO:-0700
END:DAYLIGHT
END:VTIMEZONE
BEGIN:VEVENT
DESCRIPTION:\nEvent link: https://thehivery.spaces.nexudus.com/en/events/vi
 ew/571976405/what-s-next--four-week-evening-workshop-series\n
DTEND;TZID=America/Los_Angeles:20180416T203000
DTSTAMP:20260422T194609Z
DTSTART;TZID=America/Los_Angeles:20180416T183000
LOCATION:The Hivery
SEQUENCE:0
SUMMARY:What's Next: Four-Week Evening Workshop Series
UID:ce732931-8bdb-42b2-a881-bdec22517460
END:VEVENT
END:VCALENDAR
