BEGIN:VCALENDAR
PRODID:Nexudus
VERSION:2.0
BEGIN:VTIMEZONE
TZID:America/Los_Angeles
X-LIC-LOCATION:America/Los_Angeles
BEGIN:STANDARD
DTSTART:20241103T020000
RRULE:FREQ=YEARLY;BYDAY=1SU;BYMONTH=11
TZNAME:PST
TZOFFSETFROM:-0700
TZOFFSETTO:-0800
END:STANDARD
BEGIN:DAYLIGHT
DTSTART:20250309T020000
RRULE:FREQ=YEARLY;BYDAY=2SU;BYMONTH=3
TZNAME:PDT
TZOFFSETFROM:-0800
TZOFFSETTO:-0700
END:DAYLIGHT
END:VTIMEZONE
BEGIN:VEVENT
DESCRIPTION:\nEvent link: https://thehivery.spaces.nexudus.com/en/events/vi
 ew/550540122/new-member-coffee-talk-with-lisa-joss\n
DTEND;TZID=America/Los_Angeles:20180302T100000
DTSTAMP:20260422T225334Z
DTSTART;TZID=America/Los_Angeles:20180302T090000
LOCATION:The Hivery
SEQUENCE:0
SUMMARY:New Member Coffee Talk with Lisa Joss
UID:ac1d8ac3-057e-45ec-9220-a214112d50d0
END:VEVENT
END:VCALENDAR
