BEGIN:VCALENDAR
PRODID:Nexudus
VERSION:2.0
BEGIN:VTIMEZONE
TZID:America/Los_Angeles
X-LIC-LOCATION:America/Los_Angeles
BEGIN:STANDARD
DTSTART:20241103T020000
RRULE:FREQ=YEARLY;BYDAY=1SU;BYMONTH=11
TZNAME:PST
TZOFFSETFROM:-0700
TZOFFSETTO:-0800
END:STANDARD
BEGIN:DAYLIGHT
DTSTART:20250309T020000
RRULE:FREQ=YEARLY;BYDAY=2SU;BYMONTH=3
TZNAME:PDT
TZOFFSETFROM:-0800
TZOFFSETTO:-0700
END:DAYLIGHT
END:VTIMEZONE
BEGIN:VEVENT
DESCRIPTION:\nEvent link: https://thehivery.spaces.nexudus.com/en/events/vi
 ew/514692188/discovery-circle-with-malcolm-campbell\n
DTEND;TZID=America/Los_Angeles:20180126T104500
DTSTAMP:20260423T030913Z
DTSTART;TZID=America/Los_Angeles:20180126T093000
LOCATION:The Hivery
SEQUENCE:0
SUMMARY:Discovery Circle with Malcolm Campbell
UID:2e72d7f6-f89a-41ce-b6cc-5de742e1676f
END:VEVENT
END:VCALENDAR
