BEGIN:VCALENDAR
PRODID:Nexudus
VERSION:2.0
BEGIN:VTIMEZONE
TZID:America/Los_Angeles
X-LIC-LOCATION:America/Los_Angeles
BEGIN:STANDARD
DTSTART:20241103T020000
RRULE:FREQ=YEARLY;BYDAY=1SU;BYMONTH=11
TZNAME:PST
TZOFFSETFROM:-0700
TZOFFSETTO:-0800
END:STANDARD
BEGIN:DAYLIGHT
DTSTART:20250309T020000
RRULE:FREQ=YEARLY;BYDAY=2SU;BYMONTH=3
TZNAME:PDT
TZOFFSETFROM:-0800
TZOFFSETTO:-0700
END:DAYLIGHT
END:VTIMEZONE
BEGIN:VEVENT
DESCRIPTION:\nEvent link: https://thehivery.spaces.nexudus.com/en/events/vi
 ew/480578118/entrepreneur-s-circle--thriving-in-the-gig-economy-with-mario
 n-mcgovern\n
DTEND;TZID=America/Los_Angeles:20171116T134500
DTSTAMP:20260423T062116Z
DTSTART;TZID=America/Los_Angeles:20171116T123000
LOCATION:The Hivery
SEQUENCE:0
SUMMARY:Entrepreneur's Circle: Thriving in the Gig Economy with Marion McGo
 vern
UID:4ec612c7-6411-4381-bf54-f961ef16fbfb
END:VEVENT
END:VCALENDAR
