BEGIN:VCALENDAR
PRODID:Nexudus
VERSION:2.0
BEGIN:VTIMEZONE
TZID:America/Los_Angeles
X-LIC-LOCATION:America/Los_Angeles
BEGIN:STANDARD
DTSTART:20241103T020000
RRULE:FREQ=YEARLY;BYDAY=1SU;BYMONTH=11
TZNAME:PST
TZOFFSETFROM:-0700
TZOFFSETTO:-0800
END:STANDARD
BEGIN:DAYLIGHT
DTSTART:20250309T020000
RRULE:FREQ=YEARLY;BYDAY=2SU;BYMONTH=3
TZNAME:PDT
TZOFFSETFROM:-0800
TZOFFSETTO:-0700
END:DAYLIGHT
END:VTIMEZONE
BEGIN:VEVENT
DESCRIPTION:\nEvent link: https://thehivery.spaces.nexudus.com/en/events/vi
 ew/468240783/graciousness-and-civility-in-um--rather-uncivil-times--a-conv
 ersation-with-author-kelly-williams-brown\n
DTEND;TZID=America/Los_Angeles:20171012T170000
DTSTAMP:20260423T085957Z
DTSTART;TZID=America/Los_Angeles:20171012T153000
LOCATION:The Hivery
SEQUENCE:0
SUMMARY:Graciousness and Civility in Um\, Rather Uncivil Times: A Conversat
 ion with Author Kelly Williams Brown
UID:47bc49f0-4305-4cc3-9131-e5a3f28c0d68
END:VEVENT
END:VCALENDAR
