BEGIN:VCALENDAR
PRODID:Nexudus
VERSION:2.0
BEGIN:VTIMEZONE
TZID:America/Los_Angeles
X-LIC-LOCATION:America/Los_Angeles
BEGIN:STANDARD
DTSTART:20241103T020000
RRULE:FREQ=YEARLY;BYDAY=1SU;BYMONTH=11
TZNAME:PST
TZOFFSETFROM:-0700
TZOFFSETTO:-0800
END:STANDARD
BEGIN:DAYLIGHT
DTSTART:20250309T020000
RRULE:FREQ=YEARLY;BYDAY=2SU;BYMONTH=3
TZNAME:PDT
TZOFFSETFROM:-0800
TZOFFSETTO:-0700
END:DAYLIGHT
END:VTIMEZONE
BEGIN:VEVENT
DESCRIPTION:\nEvent link: https://thehivery.spaces.nexudus.com/en/events/vi
 ew/462888430/member-spotlight--meet--mingle----connect-with-lisa-rose\n
DTEND;TZID=America/Los_Angeles:20171020T134500
DTSTAMP:20260423T072909Z
DTSTART;TZID=America/Los_Angeles:20171020T123000
LOCATION:The Hivery
SEQUENCE:0
SUMMARY:Member Spotlight: Meet\, Mingle\, & Connect with Lisa Rose
UID:b50b08cf-bc8a-4d24-8e2e-308a05dc944d
END:VEVENT
END:VCALENDAR
