BEGIN:VCALENDAR
PRODID:Nexudus
VERSION:2.0
BEGIN:VTIMEZONE
TZID:America/Los_Angeles
X-LIC-LOCATION:America/Los_Angeles
BEGIN:STANDARD
DTSTART:20241103T020000
RRULE:FREQ=YEARLY;BYDAY=1SU;BYMONTH=11
TZNAME:PST
TZOFFSETFROM:-0700
TZOFFSETTO:-0800
END:STANDARD
BEGIN:DAYLIGHT
DTSTART:20250309T020000
RRULE:FREQ=YEARLY;BYDAY=2SU;BYMONTH=3
TZNAME:PDT
TZOFFSETFROM:-0800
TZOFFSETTO:-0700
END:DAYLIGHT
END:VTIMEZONE
BEGIN:VEVENT
DESCRIPTION:\nEvent link: https://thehivery.spaces.nexudus.com/en/events/vi
 ew/457479197/member-spotlight--diy-iphone-client-testimonials-with-sharon-
 stahl\n
DTEND;TZID=America/Los_Angeles:20171215T134500
DTSTAMP:20260423T032323Z
DTSTART;TZID=America/Los_Angeles:20171215T123000
LOCATION:The Hivery
SEQUENCE:0
SUMMARY:Member Spotlight: DIY iPhone Client Testimonials with Sharon Stahl
UID:15fc0239-056a-48b7-b3a5-fcd3b071be2d
END:VEVENT
END:VCALENDAR
