BEGIN:VCALENDAR
PRODID:Nexudus
VERSION:2.0
BEGIN:VTIMEZONE
TZID:America/Los_Angeles
X-LIC-LOCATION:America/Los_Angeles
BEGIN:STANDARD
DTSTART:20241103T020000
RRULE:FREQ=YEARLY;BYDAY=1SU;BYMONTH=11
TZNAME:PST
TZOFFSETFROM:-0700
TZOFFSETTO:-0800
END:STANDARD
BEGIN:DAYLIGHT
DTSTART:20250309T020000
RRULE:FREQ=YEARLY;BYDAY=2SU;BYMONTH=3
TZNAME:PDT
TZOFFSETFROM:-0800
TZOFFSETTO:-0700
END:DAYLIGHT
END:VTIMEZONE
BEGIN:VEVENT
DESCRIPTION:\nEvent link: https://thehivery.spaces.nexudus.com/en/events/vi
 ew/436731388/member-spotlight--laura-louthan--cybersecurity---what-does-it
 -mean-and-why-should-i-care-\n
DTEND;TZID=America/Los_Angeles:20170908T134500
DTSTAMP:20260423T111902Z
DTSTART;TZID=America/Los_Angeles:20170908T123000
LOCATION:The Hivery
SEQUENCE:0
SUMMARY:Member Spotlight: Laura Louthan\, Cybersecurity - What does it mean
  and why should I care?
UID:ff007c86-1f6c-4962-8faa-836f5d8759ad
END:VEVENT
END:VCALENDAR
