BEGIN:VCALENDAR
PRODID:Nexudus
VERSION:2.0
BEGIN:VTIMEZONE
TZID:America/Los_Angeles
X-LIC-LOCATION:America/Los_Angeles
BEGIN:STANDARD
DTSTART:20241103T020000
RRULE:FREQ=YEARLY;BYDAY=1SU;BYMONTH=11
TZNAME:PST
TZOFFSETFROM:-0700
TZOFFSETTO:-0800
END:STANDARD
BEGIN:DAYLIGHT
DTSTART:20250309T020000
RRULE:FREQ=YEARLY;BYDAY=2SU;BYMONTH=3
TZNAME:PDT
TZOFFSETFROM:-0800
TZOFFSETTO:-0700
END:DAYLIGHT
END:VTIMEZONE
BEGIN:VEVENT
DESCRIPTION:\nEvent link: https://thehivery.spaces.nexudus.com/en/events/vi
 ew/412651456/writers-circle-with-thais-derich-featuring-katherine-ozment\n
DTEND;TZID=America/Los_Angeles:20170810T134500
DTSTAMP:20260423T112727Z
DTSTART;TZID=America/Los_Angeles:20170810T123000
LOCATION:The Hivery
SEQUENCE:0
SUMMARY:Writers Circle with Thais Derich Featuring Katherine Ozment
UID:c90ef697-34de-4e28-94c5-657b3dc99013
END:VEVENT
END:VCALENDAR
