BEGIN:VCALENDAR
PRODID:Nexudus
VERSION:2.0
BEGIN:VTIMEZONE
TZID:America/Los_Angeles
X-LIC-LOCATION:America/Los_Angeles
BEGIN:STANDARD
DTSTART:20241103T020000
RRULE:FREQ=YEARLY;BYDAY=1SU;BYMONTH=11
TZNAME:PST
TZOFFSETFROM:-0700
TZOFFSETTO:-0800
END:STANDARD
BEGIN:DAYLIGHT
DTSTART:20250309T020000
RRULE:FREQ=YEARLY;BYDAY=2SU;BYMONTH=3
TZNAME:PDT
TZOFFSETFROM:-0800
TZOFFSETTO:-0700
END:DAYLIGHT
END:VTIMEZONE
BEGIN:VEVENT
DESCRIPTION:\nEvent link: https://thehivery.spaces.nexudus.com/en/events/vi
 ew/412181775/member-spotlight--hilary-grosskopf\n
DTEND;TZID=America/Los_Angeles:20170804T134500
DTSTAMP:20260423T112558Z
DTSTART;TZID=America/Los_Angeles:20170804T123000
LOCATION:The Hivery
SEQUENCE:0
SUMMARY:Member Spotlight: Hilary Grosskopf
UID:d5d2e17e-52ad-4916-9adf-d46d8a57a140
END:VEVENT
END:VCALENDAR
