BEGIN:VCALENDAR
PRODID:Nexudus
VERSION:2.0
BEGIN:VTIMEZONE
TZID:America/Los_Angeles
X-LIC-LOCATION:America/Los_Angeles
BEGIN:STANDARD
DTSTART:20241103T020000
RRULE:FREQ=YEARLY;BYDAY=1SU;BYMONTH=11
TZNAME:PST
TZOFFSETFROM:-0700
TZOFFSETTO:-0800
END:STANDARD
BEGIN:DAYLIGHT
DTSTART:20250309T020000
RRULE:FREQ=YEARLY;BYDAY=2SU;BYMONTH=3
TZNAME:PDT
TZOFFSETFROM:-0800
TZOFFSETTO:-0700
END:DAYLIGHT
END:VTIMEZONE
BEGIN:VEVENT
DESCRIPTION:Select for event details \nEvent link: https://thehivery.spaces
 .nexudus.com/en/events/view/412181774/book-club---the-handmaids-tale\n
DTEND;TZID=America/Los_Angeles:20170802T210000
DTSTAMP:20260423T112550Z
DTSTART;TZID=America/Los_Angeles:20170802T190000
LOCATION:The Hivery
SEQUENCE:0
SUMMARY:Book Club:  The Handmaids Tale
UID:1dda2e54-e28b-4157-9df2-047f23c61ef3
END:VEVENT
END:VCALENDAR
