BEGIN:VCALENDAR
PRODID:Nexudus
VERSION:2.0
BEGIN:VTIMEZONE
TZID:America/Los_Angeles
X-LIC-LOCATION:America/Los_Angeles
BEGIN:STANDARD
DTSTART:20241103T020000
RRULE:FREQ=YEARLY;BYDAY=1SU;BYMONTH=11
TZNAME:PST
TZOFFSETFROM:-0700
TZOFFSETTO:-0800
END:STANDARD
BEGIN:DAYLIGHT
DTSTART:20250309T020000
RRULE:FREQ=YEARLY;BYDAY=2SU;BYMONTH=3
TZNAME:PDT
TZOFFSETFROM:-0800
TZOFFSETTO:-0700
END:DAYLIGHT
END:VTIMEZONE
BEGIN:VEVENT
DESCRIPTION:Start your week off with deep relaxation and meditative inquiry
 .\nEvent link: https://thehivery.spaces.nexudus.com/en/events/view/3701117
 44/monday-meditation-with-betsy-ryan\n
DTEND;TZID=America/Los_Angeles:20170529T133000
DTSTAMP:20260423T112739Z
DTSTART;TZID=America/Los_Angeles:20170529T123000
LOCATION:The Hivery
SEQUENCE:0
SUMMARY:Monday Meditation with Betsy Ryan
UID:5dd2b850-e049-4723-a549-f5185d6ac01f
END:VEVENT
END:VCALENDAR
