BEGIN:VCALENDAR
PRODID:Nexudus
VERSION:2.0
BEGIN:VTIMEZONE
TZID:America/Los_Angeles
X-LIC-LOCATION:America/Los_Angeles
BEGIN:STANDARD
DTSTART:20241103T020000
RRULE:FREQ=YEARLY;BYDAY=1SU;BYMONTH=11
TZNAME:PST
TZOFFSETFROM:-0700
TZOFFSETTO:-0800
END:STANDARD
BEGIN:DAYLIGHT
DTSTART:20250309T020000
RRULE:FREQ=YEARLY;BYDAY=2SU;BYMONTH=3
TZNAME:PDT
TZOFFSETFROM:-0800
TZOFFSETTO:-0700
END:DAYLIGHT
END:VTIMEZONE
BEGIN:VEVENT
DESCRIPTION:\nEvent link: https://thehivery.spaces.nexudus.com/en/events/vi
 ew/369944578/entrepreneur-s-circle\n
DTEND;TZID=America/Los_Angeles:20170518T123000
DTSTAMP:20260423T125115Z
DTSTART;TZID=America/Los_Angeles:20170518T123000
LOCATION:The Hivery
SEQUENCE:0
SUMMARY:Entrepreneur's Circle
UID:b84913c4-a7c0-4732-9afc-84be4f353679
END:VEVENT
END:VCALENDAR
