BEGIN:VCALENDAR
PRODID:Nexudus
VERSION:2.0
BEGIN:VTIMEZONE
TZID:America/Los_Angeles
X-LIC-LOCATION:America/Los_Angeles
BEGIN:STANDARD
DTSTART:20241103T020000
RRULE:FREQ=YEARLY;BYDAY=1SU;BYMONTH=11
TZNAME:PST
TZOFFSETFROM:-0700
TZOFFSETTO:-0800
END:STANDARD
BEGIN:DAYLIGHT
DTSTART:20250309T020000
RRULE:FREQ=YEARLY;BYDAY=2SU;BYMONTH=3
TZNAME:PDT
TZOFFSETFROM:-0800
TZOFFSETTO:-0700
END:DAYLIGHT
END:VTIMEZONE
BEGIN:VEVENT
DESCRIPTION:\nEvent link: https://thehivery.spaces.nexudus.com/en/events/vi
 ew/1272896640/playwright-for-love--a-conversation-with-kate-cortesi\n
DTEND;TZID=America/Los_Angeles:20200305T134500
DTSTAMP:20260421T150550Z
DTSTART;TZID=America/Los_Angeles:20200305T123000
LOCATION:The Hivery Mill Valley
SEQUENCE:0
SUMMARY:Playwright for Love: A Conversation with Kate Cortesi
UID:c2c2bb68-aaee-40bc-b404-e38f38093ee6
END:VEVENT
END:VCALENDAR
