BEGIN:VCALENDAR
PRODID:Nexudus
VERSION:2.0
BEGIN:VTIMEZONE
TZID:America/Los_Angeles
X-LIC-LOCATION:America/Los_Angeles
BEGIN:STANDARD
DTSTART:20241103T020000
RRULE:FREQ=YEARLY;BYDAY=1SU;BYMONTH=11
TZNAME:PST
TZOFFSETFROM:-0700
TZOFFSETTO:-0800
END:STANDARD
BEGIN:DAYLIGHT
DTSTART:20250309T020000
RRULE:FREQ=YEARLY;BYDAY=2SU;BYMONTH=3
TZNAME:PDT
TZOFFSETFROM:-0800
TZOFFSETTO:-0700
END:DAYLIGHT
END:VTIMEZONE
BEGIN:VEVENT
DESCRIPTION:\nEvent link: https://thehivery.spaces.nexudus.com/en/events/vi
 ew/1254667434/monthly-member-coffee-mv\n
DTEND;TZID=America/Los_Angeles:20200306T100000
DTSTAMP:20260421T150520Z
DTSTART;TZID=America/Los_Angeles:20200306T090000
LOCATION:The Hivery Mill Valley
SEQUENCE:0
SUMMARY:Monthly Member Coffee MV
UID:e2aaf687-9243-437c-a31a-ec09c8f5afa1
END:VEVENT
END:VCALENDAR
