BEGIN:VCALENDAR
PRODID:Nexudus
VERSION:2.0
BEGIN:VTIMEZONE
TZID:America/Los_Angeles
X-LIC-LOCATION:America/Los_Angeles
BEGIN:STANDARD
DTSTART:20241103T020000
RRULE:FREQ=YEARLY;BYDAY=1SU;BYMONTH=11
TZNAME:PST
TZOFFSETFROM:-0700
TZOFFSETTO:-0800
END:STANDARD
BEGIN:DAYLIGHT
DTSTART:20250309T020000
RRULE:FREQ=YEARLY;BYDAY=2SU;BYMONTH=3
TZNAME:PDT
TZOFFSETFROM:-0800
TZOFFSETTO:-0700
END:DAYLIGHT
END:VTIMEZONE
BEGIN:VEVENT
DESCRIPTION:\nEvent link: https://thehivery.spaces.nexudus.com/en/events/vi
 ew/1198111917/first-tuesday-artwalk--group-show-at-the-hivery-mill-valley-
 --member-happy-hour\n
DTEND;TZID=America/Los_Angeles:20191203T193000
DTSTAMP:20260421T163742Z
DTSTART;TZID=America/Los_Angeles:20191203T180000
LOCATION:The Hivery Mill Valley
SEQUENCE:0
SUMMARY:First Tuesday ArtWalk: Group Show at The Hivery Mill Valley & Membe
 r Happy Hour
UID:d1881c28-d036-4cde-b618-f21e179493fd
END:VEVENT
END:VCALENDAR
