BEGIN:VCALENDAR
PRODID:Nexudus
VERSION:2.0
BEGIN:VTIMEZONE
TZID:America/Los_Angeles
X-LIC-LOCATION:America/Los_Angeles
BEGIN:STANDARD
DTSTART:20241103T020000
RRULE:FREQ=YEARLY;BYDAY=1SU;BYMONTH=11
TZNAME:PST
TZOFFSETFROM:-0700
TZOFFSETTO:-0800
END:STANDARD
BEGIN:DAYLIGHT
DTSTART:20250309T020000
RRULE:FREQ=YEARLY;BYDAY=2SU;BYMONTH=3
TZNAME:PDT
TZOFFSETFROM:-0800
TZOFFSETTO:-0700
END:DAYLIGHT
END:VTIMEZONE
BEGIN:VEVENT
DESCRIPTION:\nEvent link: https://thehivery.spaces.nexudus.com/en/events/vi
 ew/1122694647/happy-hour-at-west-coast-wines--drop-in-for-a-sip---bite-bef
 ore-our-september-hivery-circle\n
DTEND;TZID=America/Los_Angeles:20190910T190000
DTSTAMP:20260421T231929Z
DTSTART;TZID=America/Los_Angeles:20190910T170000
LOCATION:The Hivery
SEQUENCE:0
SUMMARY:Happy Hour at West Coast Wines: Drop In for a Sip + Bite Before Our
  September Hivery Circle
UID:cc841396-adc4-4e57-91d0-0a40116e4305
END:VEVENT
END:VCALENDAR
