BEGIN:VCALENDAR
PRODID:Nexudus
VERSION:2.0
BEGIN:VTIMEZONE
TZID:America/Los_Angeles
X-LIC-LOCATION:America/Los_Angeles
BEGIN:STANDARD
DTSTART:20241103T020000
RRULE:FREQ=YEARLY;BYDAY=1SU;BYMONTH=11
TZNAME:PST
TZOFFSETFROM:-0700
TZOFFSETTO:-0800
END:STANDARD
BEGIN:DAYLIGHT
DTSTART:20250309T020000
RRULE:FREQ=YEARLY;BYDAY=2SU;BYMONTH=3
TZNAME:PDT
TZOFFSETFROM:-0800
TZOFFSETTO:-0700
END:DAYLIGHT
END:VTIMEZONE
BEGIN:VEVENT
DESCRIPTION:\nEvent link: https://thehivery.spaces.nexudus.com/en/events/vi
 ew/1111875802/hivery-circle--a-celebration-of-art-at-the-hivery\n
DTEND;TZID=America/Los_Angeles:20190806T200000
DTSTAMP:20260421T212819Z
DTSTART;TZID=America/Los_Angeles:20190806T180000
LOCATION:The Hivery
SEQUENCE:0
SUMMARY:Hivery Circle: A Celebration of Art at The Hivery
UID:a6ba0875-239f-4c1d-af3c-795d58c118c2
END:VEVENT
END:VCALENDAR
