BEGIN:VCALENDAR
PRODID:Nexudus
VERSION:2.0
BEGIN:VTIMEZONE
TZID:America/Los_Angeles
X-LIC-LOCATION:America/Los_Angeles
BEGIN:STANDARD
DTSTART:20241103T020000
RRULE:FREQ=YEARLY;BYDAY=1SU;BYMONTH=11
TZNAME:PST
TZOFFSETFROM:-0700
TZOFFSETTO:-0800
END:STANDARD
BEGIN:DAYLIGHT
DTSTART:20250309T020000
RRULE:FREQ=YEARLY;BYDAY=2SU;BYMONTH=3
TZNAME:PDT
TZOFFSETFROM:-0800
TZOFFSETTO:-0700
END:DAYLIGHT
END:VTIMEZONE
BEGIN:VEVENT
DESCRIPTION:\nEvent link: https://thehivery.spaces.nexudus.com/en/events/vi
 ew/776001227/the-hivery-incubator-3-month-program-information-session-with
 -grace-kraaijvanger\n
DTEND;TZID=America/Los_Angeles:20181207T130000
DTSTAMP:20260422T081303Z
DTSTART;TZID=America/Los_Angeles:20181207T100000
LOCATION:The Hivery
SEQUENCE:0
SUMMARY:The Hivery Incubator 3-Month Program Information Session with Grace
  Kraaijvanger
UID:7d5b7bd6-8db2-43b0-8c81-d8806c152ed8
END:VEVENT
END:VCALENDAR
