BEGIN:VCALENDAR
PRODID:Nexudus
VERSION:2.0
BEGIN:VTIMEZONE
TZID:America/Los_Angeles
X-LIC-LOCATION:America/Los_Angeles
BEGIN:STANDARD
DTSTART:20241103T020000
RRULE:FREQ=YEARLY;BYDAY=1SU;BYMONTH=11
TZNAME:PST
TZOFFSETFROM:-0700
TZOFFSETTO:-0800
END:STANDARD
BEGIN:DAYLIGHT
DTSTART:20250309T020000
RRULE:FREQ=YEARLY;BYDAY=2SU;BYMONTH=3
TZNAME:PDT
TZOFFSETFROM:-0800
TZOFFSETTO:-0700
END:DAYLIGHT
END:VTIMEZONE
BEGIN:VEVENT
DESCRIPTION:\nEvent link: https://thehivery.spaces.nexudus.com/en/events/vi
 ew/703562174/wellness-wednesday--dia-de-muertos-cacao-ceremony---guided-me
 ditation\n
DTEND;TZID=America/Los_Angeles:20181031T133000
DTSTAMP:20260422T110519Z
DTSTART;TZID=America/Los_Angeles:20181031T123000
LOCATION:The Hivery
SEQUENCE:0
SUMMARY:Wellness Wednesday: Dia de Muertos Cacao Ceremony + Guided Meditati
 on
UID:a922f714-0f5f-4e47-a79e-56c3510aecda
END:VEVENT
END:VCALENDAR
