BEGIN:VCALENDAR
PRODID:Nexudus
VERSION:2.0
BEGIN:VTIMEZONE
TZID:America/Los_Angeles
X-LIC-LOCATION:America/Los_Angeles
BEGIN:STANDARD
DTSTART:20241103T020000
RRULE:FREQ=YEARLY;BYDAY=1SU;BYMONTH=11
TZNAME:PST
TZOFFSETFROM:-0700
TZOFFSETTO:-0800
END:STANDARD
BEGIN:DAYLIGHT
DTSTART:20250309T020000
RRULE:FREQ=YEARLY;BYDAY=2SU;BYMONTH=3
TZNAME:PDT
TZOFFSETFROM:-0800
TZOFFSETTO:-0700
END:DAYLIGHT
END:VTIMEZONE
BEGIN:VEVENT
DESCRIPTION:\nEvent link: https://thehivery.spaces.nexudus.com/en/events/vi
 ew/605498760/creativity-circle--explore-your-creativity-in-a-mixed-media-w
 orkshop-with-anne-lafollette\n
DTEND;TZID=America/Los_Angeles:20180607T134500
DTSTAMP:20260422T182422Z
DTSTART;TZID=America/Los_Angeles:20180607T123000
LOCATION:The Hivery
SEQUENCE:0
SUMMARY:Creativity Circle: Explore Your Creativity in a Mixed Media Worksho
 p with Anne LaFollette
UID:b0a1995e-b0cf-46d6-b3f9-13ca19a3d561
END:VEVENT
END:VCALENDAR
