BEGIN:VCALENDAR
PRODID:Nexudus
VERSION:2.0
BEGIN:VTIMEZONE
TZID:America/Los_Angeles
X-LIC-LOCATION:America/Los_Angeles
BEGIN:STANDARD
DTSTART:20241103T020000
RRULE:FREQ=YEARLY;BYDAY=1SU;BYMONTH=11
TZNAME:PST
TZOFFSETFROM:-0700
TZOFFSETTO:-0800
END:STANDARD
BEGIN:DAYLIGHT
DTSTART:20250309T020000
RRULE:FREQ=YEARLY;BYDAY=2SU;BYMONTH=3
TZNAME:PDT
TZOFFSETFROM:-0800
TZOFFSETTO:-0700
END:DAYLIGHT
END:VTIMEZONE
BEGIN:VEVENT
DESCRIPTION:\nEvent link: https://thehivery.spaces.nexudus.com/en/events/vi
 ew/575102537/discovery-circle-with-laura-riordan--ph-d-\n
DTEND;TZID=America/Los_Angeles:20180420T104500
DTSTAMP:20260422T222245Z
DTSTART;TZID=America/Los_Angeles:20180420T093000
LOCATION:The Hivery
SEQUENCE:0
SUMMARY:Discovery Circle with Laura Riordan\, Ph.D.
UID:c3a205d9-7f12-4501-bcc7-410cddef47ba
END:VEVENT
END:VCALENDAR
