BEGIN:VCALENDAR
PRODID:Nexudus
VERSION:2.0
BEGIN:VTIMEZONE
TZID:America/Los_Angeles
X-LIC-LOCATION:America/Los_Angeles
BEGIN:STANDARD
DTSTART:20241103T020000
RRULE:FREQ=YEARLY;BYDAY=1SU;BYMONTH=11
TZNAME:PST
TZOFFSETFROM:-0700
TZOFFSETTO:-0800
END:STANDARD
BEGIN:DAYLIGHT
DTSTART:20250309T020000
RRULE:FREQ=YEARLY;BYDAY=2SU;BYMONTH=3
TZNAME:PDT
TZOFFSETFROM:-0800
TZOFFSETTO:-0700
END:DAYLIGHT
END:VTIMEZONE
BEGIN:VEVENT
DESCRIPTION:\nEvent link: https://thehivery.spaces.nexudus.com/en/events/vi
 ew/566835341/hivery-circle--being-boss-with-kathleen-shannon-and-emily-tho
 mpson\n
DTEND;TZID=America/Los_Angeles:20180417T210000
DTSTAMP:20260422T211354Z
DTSTART;TZID=America/Los_Angeles:20180417T190000
LOCATION:The Hivery
SEQUENCE:0
SUMMARY:Hivery Circle: Being Boss with Kathleen Shannon and Emily Thompson
UID:6f4359ba-4087-48e4-a6d2-3436ba1aab20
END:VEVENT
END:VCALENDAR
