BEGIN:VCALENDAR
PRODID:Nexudus
VERSION:2.0
BEGIN:VTIMEZONE
TZID:America/Los_Angeles
X-LIC-LOCATION:America/Los_Angeles
BEGIN:STANDARD
DTSTART:20241103T020000
RRULE:FREQ=YEARLY;BYDAY=1SU;BYMONTH=11
TZNAME:PST
TZOFFSETFROM:-0700
TZOFFSETTO:-0800
END:STANDARD
BEGIN:DAYLIGHT
DTSTART:20250309T020000
RRULE:FREQ=YEARLY;BYDAY=2SU;BYMONTH=3
TZNAME:PDT
TZOFFSETFROM:-0800
TZOFFSETTO:-0700
END:DAYLIGHT
END:VTIMEZONE
BEGIN:VEVENT
DESCRIPTION:\nEvent link: https://thehivery.spaces.nexudus.com/en/events/vi
 ew/564686122/member-monday--brown-bag-lunch---orientation\n
DTEND;TZID=America/Los_Angeles:20180402T140000
DTSTAMP:20260422T224434Z
DTSTART;TZID=America/Los_Angeles:20180402T123000
LOCATION:The Hivery
SEQUENCE:0
SUMMARY:Member Monday: Brown Bag Lunch + Orientation
UID:6e0cfdba-ab00-464b-a5ce-c9482158f19f
END:VEVENT
END:VCALENDAR
