BEGIN:VCALENDAR
PRODID:Nexudus
VERSION:2.0
BEGIN:VTIMEZONE
TZID:America/Los_Angeles
X-LIC-LOCATION:America/Los_Angeles
BEGIN:STANDARD
DTSTART:20241103T020000
RRULE:FREQ=YEARLY;BYDAY=1SU;BYMONTH=11
TZNAME:PST
TZOFFSETFROM:-0700
TZOFFSETTO:-0800
END:STANDARD
BEGIN:DAYLIGHT
DTSTART:20250309T020000
RRULE:FREQ=YEARLY;BYDAY=2SU;BYMONTH=3
TZNAME:PDT
TZOFFSETFROM:-0800
TZOFFSETTO:-0700
END:DAYLIGHT
END:VTIMEZONE
BEGIN:VEVENT
DESCRIPTION:\nEvent link: https://thehivery.spaces.nexudus.com/en/events/vi
 ew/532684234/hivery-circle--mindfulness\n
DTEND;TZID=America/Los_Angeles:20180213T210000
DTSTAMP:20260423T015114Z
DTSTART;TZID=America/Los_Angeles:20180213T190000
LOCATION:The Hivery
SEQUENCE:0
SUMMARY:Hivery Circle: Mindfulness
UID:57f17d0a-f579-4d8e-bace-0a1d826b75ef
END:VEVENT
END:VCALENDAR
