BEGIN:VCALENDAR
PRODID:Nexudus
VERSION:2.0
BEGIN:VTIMEZONE
TZID:America/Los_Angeles
X-LIC-LOCATION:America/Los_Angeles
BEGIN:STANDARD
DTSTART:20241103T020000
RRULE:FREQ=YEARLY;BYDAY=1SU;BYMONTH=11
TZNAME:PST
TZOFFSETFROM:-0700
TZOFFSETTO:-0800
END:STANDARD
BEGIN:DAYLIGHT
DTSTART:20250309T020000
RRULE:FREQ=YEARLY;BYDAY=2SU;BYMONTH=3
TZNAME:PDT
TZOFFSETFROM:-0800
TZOFFSETTO:-0700
END:DAYLIGHT
END:VTIMEZONE
BEGIN:VEVENT
DESCRIPTION:\nEvent link: https://thehivery.spaces.nexudus.com/en/events/vi
 ew/504286786/hivery-circle--renewal-for-mind--body-and-spirit\n
DTEND;TZID=America/Los_Angeles:20180109T210000
DTSTAMP:20260423T045418Z
DTSTART;TZID=America/Los_Angeles:20180109T190000
LOCATION:The Hivery
SEQUENCE:0
SUMMARY:Hivery Circle: Renewal for Mind\, Body and Spirit
UID:eee5eb90-6355-4777-98ee-065010bb1813
END:VEVENT
END:VCALENDAR
