BEGIN:VCALENDAR
PRODID:Nexudus
VERSION:2.0
BEGIN:VTIMEZONE
TZID:America/Los_Angeles
X-LIC-LOCATION:America/Los_Angeles
BEGIN:STANDARD
DTSTART:20241103T020000
RRULE:FREQ=YEARLY;BYDAY=1SU;BYMONTH=11
TZNAME:PST
TZOFFSETFROM:-0700
TZOFFSETTO:-0800
END:STANDARD
BEGIN:DAYLIGHT
DTSTART:20250309T020000
RRULE:FREQ=YEARLY;BYDAY=2SU;BYMONTH=3
TZNAME:PDT
TZOFFSETFROM:-0800
TZOFFSETTO:-0700
END:DAYLIGHT
END:VTIMEZONE
BEGIN:VEVENT
DESCRIPTION:\nEvent link: https://thehivery.spaces.nexudus.com/en/events/vi
 ew/494474126/wellness-wednesday--a-circle-of-gratitude\n
DTEND;TZID=America/Los_Angeles:20171115T130000
DTSTAMP:20260423T072756Z
DTSTART;TZID=America/Los_Angeles:20171115T123000
LOCATION:The Hivery
SEQUENCE:0
SUMMARY:Wellness Wednesday: A Circle of Gratitude
UID:4efeb19e-433c-4aca-9a33-9aca98686ec1
END:VEVENT
END:VCALENDAR
