BEGIN:VCALENDAR
PRODID:Nexudus
VERSION:2.0
BEGIN:VTIMEZONE
TZID:America/Los_Angeles
X-LIC-LOCATION:America/Los_Angeles
BEGIN:STANDARD
DTSTART:20241103T020000
RRULE:FREQ=YEARLY;BYDAY=1SU;BYMONTH=11
TZNAME:PST
TZOFFSETFROM:-0700
TZOFFSETTO:-0800
END:STANDARD
BEGIN:DAYLIGHT
DTSTART:20250309T020000
RRULE:FREQ=YEARLY;BYDAY=2SU;BYMONTH=3
TZNAME:PDT
TZOFFSETFROM:-0800
TZOFFSETTO:-0700
END:DAYLIGHT
END:VTIMEZONE
BEGIN:VEVENT
DESCRIPTION:\nEvent link: https://thehivery.spaces.nexudus.com/en/events/vi
 ew/483718257/wellness-wednesday--self-care-for-the-holidays---meditation--
 breathing-and-self-care-techniques\n
DTEND;TZID=America/Los_Angeles:20171206T130000
DTSTAMP:20260423T060507Z
DTSTART;TZID=America/Los_Angeles:20171206T123000
LOCATION:The Hivery
SEQUENCE:0
SUMMARY:Wellness Wednesday: Self Care for the Holidays.  Meditation\, Breat
 hing and Self Care Techniques
UID:18f94e3e-8c48-40cf-a2af-6f0f190a44c0
END:VEVENT
END:VCALENDAR
