BEGIN:VCALENDAR
PRODID:Nexudus
VERSION:2.0
BEGIN:VTIMEZONE
TZID:America/Los_Angeles
X-LIC-LOCATION:America/Los_Angeles
BEGIN:STANDARD
DTSTART:20241103T020000
RRULE:FREQ=YEARLY;BYDAY=1SU;BYMONTH=11
TZNAME:PST
TZOFFSETFROM:-0700
TZOFFSETTO:-0800
END:STANDARD
BEGIN:DAYLIGHT
DTSTART:20250309T020000
RRULE:FREQ=YEARLY;BYDAY=2SU;BYMONTH=3
TZNAME:PDT
TZOFFSETFROM:-0800
TZOFFSETTO:-0700
END:DAYLIGHT
END:VTIMEZONE
BEGIN:VEVENT
DESCRIPTION:\nEvent link: https://thehivery.spaces.nexudus.com/en/events/vi
 ew/480578122/member-spotlight--discover-your-authentic-style-with-michelle
 -moquin\n
DTEND;TZID=America/Los_Angeles:20171201T134500
DTSTAMP:20260423T060235Z
DTSTART;TZID=America/Los_Angeles:20171201T123000
LOCATION:The Hivery
SEQUENCE:0
SUMMARY:Member Spotlight: Discover your Authentic Style with Michelle Moqui
 n
UID:9f6d77af-287b-4f1e-8bdc-b4b66358ffcc
END:VEVENT
END:VCALENDAR
