BEGIN:VCALENDAR
PRODID:Nexudus
VERSION:2.0
BEGIN:VTIMEZONE
TZID:America/Los_Angeles
X-LIC-LOCATION:America/Los_Angeles
BEGIN:STANDARD
DTSTART:20241103T020000
RRULE:FREQ=YEARLY;BYDAY=1SU;BYMONTH=11
TZNAME:PST
TZOFFSETFROM:-0700
TZOFFSETTO:-0800
END:STANDARD
BEGIN:DAYLIGHT
DTSTART:20250309T020000
RRULE:FREQ=YEARLY;BYDAY=2SU;BYMONTH=3
TZNAME:PDT
TZOFFSETFROM:-0800
TZOFFSETTO:-0700
END:DAYLIGHT
END:VTIMEZONE
BEGIN:VEVENT
DESCRIPTION:\nEvent link: https://thehivery.spaces.nexudus.com/en/events/vi
 ew/480578100/wellness-wednesday--wonder-walk-with-awe-trailblazer-candra-c
 anning\n
DTEND;TZID=America/Los_Angeles:20171108T130000
DTSTAMP:20260423T072828Z
DTSTART;TZID=America/Los_Angeles:20171108T120000
LOCATION:The Hivery
SEQUENCE:0
SUMMARY:Wellness Wednesday: WONDER WALK with AWE Trailblazer Candra Canning
UID:1e7b055c-bc83-463c-a9ae-31a2360c8b81
END:VEVENT
END:VCALENDAR
