BEGIN:VCALENDAR
PRODID:Nexudus
VERSION:2.0
BEGIN:VTIMEZONE
TZID:America/Los_Angeles
X-LIC-LOCATION:America/Los_Angeles
BEGIN:STANDARD
DTSTART:20241103T020000
RRULE:FREQ=YEARLY;BYDAY=1SU;BYMONTH=11
TZNAME:PST
TZOFFSETFROM:-0700
TZOFFSETTO:-0800
END:STANDARD
BEGIN:DAYLIGHT
DTSTART:20250309T020000
RRULE:FREQ=YEARLY;BYDAY=2SU;BYMONTH=3
TZNAME:PDT
TZOFFSETFROM:-0800
TZOFFSETTO:-0700
END:DAYLIGHT
END:VTIMEZONE
BEGIN:VEVENT
DESCRIPTION:\nEvent link: https://thehivery.spaces.nexudus.com/en/events/vi
 ew/480578098/wellness-wednesday--heart-guided-meditation\n
DTEND;TZID=America/Los_Angeles:20171101T130000
DTSTAMP:20260423T083320Z
DTSTART;TZID=America/Los_Angeles:20171101T123000
LOCATION:The Hivery
SEQUENCE:0
SUMMARY:Wellness Wednesday: Heart-Guided Meditation 
UID:bf17a6e4-a29b-4c44-8246-2cb1066a56fa
END:VEVENT
END:VCALENDAR
