BEGIN:VCALENDAR
PRODID:Nexudus
VERSION:2.0
BEGIN:VTIMEZONE
TZID:America/Los_Angeles
X-LIC-LOCATION:America/Los_Angeles
BEGIN:STANDARD
DTSTART:20241103T020000
RRULE:FREQ=YEARLY;BYDAY=1SU;BYMONTH=11
TZNAME:PST
TZOFFSETFROM:-0700
TZOFFSETTO:-0800
END:STANDARD
BEGIN:DAYLIGHT
DTSTART:20250309T020000
RRULE:FREQ=YEARLY;BYDAY=2SU;BYMONTH=3
TZNAME:PDT
TZOFFSETFROM:-0800
TZOFFSETTO:-0700
END:DAYLIGHT
END:VTIMEZONE
BEGIN:VEVENT
DESCRIPTION:Select for event details \nEvent link: https://thehivery.spaces
 .nexudus.com/en/events/view/457391067/the-hivery-book-club--my-absolute-da
 rling\n
DTEND;TZID=America/Los_Angeles:20171026T203000
DTSTAMP:20260423T094706Z
DTSTART;TZID=America/Los_Angeles:20171026T190000
LOCATION:The Hivery
SEQUENCE:0
SUMMARY:The Hivery Book Club: My Absolute Darling
UID:9b312490-a67a-4f04-97f9-c82bd5621130
END:VEVENT
END:VCALENDAR
