BEGIN:VCALENDAR
PRODID:Nexudus
VERSION:2.0
BEGIN:VTIMEZONE
TZID:America/Los_Angeles
X-LIC-LOCATION:America/Los_Angeles
BEGIN:STANDARD
DTSTART:20241103T020000
RRULE:FREQ=YEARLY;BYDAY=1SU;BYMONTH=11
TZNAME:PST
TZOFFSETFROM:-0700
TZOFFSETTO:-0800
END:STANDARD
BEGIN:DAYLIGHT
DTSTART:20250309T020000
RRULE:FREQ=YEARLY;BYDAY=2SU;BYMONTH=3
TZNAME:PDT
TZOFFSETFROM:-0800
TZOFFSETTO:-0700
END:DAYLIGHT
END:VTIMEZONE
BEGIN:VEVENT
DESCRIPTION:\nEvent link: https://thehivery.spaces.nexudus.com/en/events/vi
 ew/444111752/member-spotlight--iphone-videography--intro-to-creating-short
 -video-stories-using-your-iphone-and-imovie-with-kim-thompson-steel\n
DTEND;TZID=America/Los_Angeles:20171208T134500
DTSTAMP:20260423T060519Z
DTSTART;TZID=America/Los_Angeles:20171208T123000
LOCATION:The Hivery
SEQUENCE:0
SUMMARY:Member Spotlight: iPhone Videography: Intro to Creating Short Video
  Stories Using Your iPhone and iMovie with Kim Thompson Steel
UID:52be2644-1d1f-4728-8157-054d68b6ad30
END:VEVENT
END:VCALENDAR
