BEGIN:VCALENDAR
PRODID:Nexudus
VERSION:2.0
BEGIN:VTIMEZONE
TZID:America/Los_Angeles
X-LIC-LOCATION:America/Los_Angeles
BEGIN:STANDARD
DTSTART:20241103T020000
RRULE:FREQ=YEARLY;BYDAY=1SU;BYMONTH=11
TZNAME:PST
TZOFFSETFROM:-0700
TZOFFSETTO:-0800
END:STANDARD
BEGIN:DAYLIGHT
DTSTART:20250309T020000
RRULE:FREQ=YEARLY;BYDAY=2SU;BYMONTH=3
TZNAME:PDT
TZOFFSETFROM:-0800
TZOFFSETTO:-0700
END:DAYLIGHT
END:VTIMEZONE
BEGIN:VEVENT
DESCRIPTION:\nEvent link: https://thehivery.spaces.nexudus.com/en/events/vi
 ew/412181771/book-club--the-alchemist\n
DTEND;TZID=America/Los_Angeles:20170712T210000
DTSTAMP:20260423T122046Z
DTSTART;TZID=America/Los_Angeles:20170712T190000
LOCATION:The Hivery
SEQUENCE:0
SUMMARY:Book Club: The Alchemist
UID:34d742cb-07e2-4202-9385-0c1bc92df4d2
END:VEVENT
END:VCALENDAR
