BEGIN:VCALENDAR
PRODID:Nexudus
VERSION:2.0
BEGIN:VTIMEZONE
TZID:America/Los_Angeles
X-LIC-LOCATION:America/Los_Angeles
BEGIN:STANDARD
DTSTART:20241103T020000
RRULE:FREQ=YEARLY;BYDAY=1SU;BYMONTH=11
TZNAME:PST
TZOFFSETFROM:-0700
TZOFFSETTO:-0800
END:STANDARD
BEGIN:DAYLIGHT
DTSTART:20250309T020000
RRULE:FREQ=YEARLY;BYDAY=2SU;BYMONTH=3
TZNAME:PDT
TZOFFSETFROM:-0800
TZOFFSETTO:-0700
END:DAYLIGHT
END:VTIMEZONE
BEGIN:VEVENT
DESCRIPTION:\nEvent link: https://thehivery.spaces.nexudus.com/en/events/vi
 ew/1079833841/the-power-of-owning-your-expertise--knowing-your-value---get
 ting-the-outcomes-you-want-with-elisa-camahort-page\n
DTEND;TZID=America/Los_Angeles:20190911T120000
DTSTAMP:20260421T212748Z
DTSTART;TZID=America/Los_Angeles:20190911T093000
LOCATION:The Hivery
SEQUENCE:0
SUMMARY:The Power of Owning Your Expertise\, Knowing Your Value & Getting T
 he Outcomes You Want with Elisa Camahort Page 
UID:2ede0f4d-c2dd-41ec-ae0e-a4e2400818db
END:VEVENT
END:VCALENDAR
