BEGIN:VCALENDAR
PRODID:Nexudus
VERSION:2.0
BEGIN:VTIMEZONE
TZID:America/Los_Angeles
X-LIC-LOCATION:America/Los_Angeles
BEGIN:STANDARD
DTSTART:20241103T020000
RRULE:FREQ=YEARLY;BYDAY=1SU;BYMONTH=11
TZNAME:PST
TZOFFSETFROM:-0700
TZOFFSETTO:-0800
END:STANDARD
BEGIN:DAYLIGHT
DTSTART:20250309T020000
RRULE:FREQ=YEARLY;BYDAY=2SU;BYMONTH=3
TZNAME:PDT
TZOFFSETFROM:-0800
TZOFFSETTO:-0700
END:DAYLIGHT
END:VTIMEZONE
BEGIN:VEVENT
DESCRIPTION:\nEvent link: https://thehivery.spaces.nexudus.com/en/events/vi
 ew/965578619/the-hivery-spring-incubator--a-3-month-program-led-by-grace-k
 raaijvanger\n
DTEND;TZID=America/Los_Angeles:20190503T120000
DTSTAMP:20260422T024411Z
DTSTART;TZID=America/Los_Angeles:20190503T093000
LOCATION:The Hivery
SEQUENCE:0
SUMMARY:The Hivery Spring Incubator: A 3-Month Program Led by Grace Kraaijv
 anger
UID:efadd6fc-24c2-46e0-a83e-d6634f7cfe07
END:VEVENT
END:VCALENDAR
