BEGIN:VCALENDAR
PRODID:Nexudus
VERSION:2.0
BEGIN:VTIMEZONE
TZID:America/Los_Angeles
X-LIC-LOCATION:America/Los_Angeles
BEGIN:STANDARD
DTSTART:20241103T020000
RRULE:FREQ=YEARLY;BYDAY=1SU;BYMONTH=11
TZNAME:PST
TZOFFSETFROM:-0700
TZOFFSETTO:-0800
END:STANDARD
BEGIN:DAYLIGHT
DTSTART:20250309T020000
RRULE:FREQ=YEARLY;BYDAY=2SU;BYMONTH=3
TZNAME:PDT
TZOFFSETFROM:-0800
TZOFFSETTO:-0700
END:DAYLIGHT
END:VTIMEZONE
BEGIN:VEVENT
DESCRIPTION:\nEvent link: https://thehivery.spaces.nexudus.com/en/events/vi
 ew/774913148/the-hivery-incubator--a-3-month-program-led-by-grace-kraaijva
 nger\n
DTEND;TZID=America/Los_Angeles:20190201T123000
DTSTAMP:20260422T070158Z
DTSTART;TZID=America/Los_Angeles:20190201T093000
LOCATION:The Hivery
SEQUENCE:0
SUMMARY:The Hivery Incubator: A 3-Month Program Led by Grace Kraaijvanger
UID:35780b90-20b3-42db-bb32-93604b160987
END:VEVENT
END:VCALENDAR
