BEGIN:VCALENDAR
PRODID:Nexudus
VERSION:2.0
BEGIN:VTIMEZONE
TZID:America/Los_Angeles
X-LIC-LOCATION:America/Los_Angeles
BEGIN:STANDARD
DTSTART:20241103T020000
RRULE:FREQ=YEARLY;BYDAY=1SU;BYMONTH=11
TZNAME:PST
TZOFFSETFROM:-0700
TZOFFSETTO:-0800
END:STANDARD
BEGIN:DAYLIGHT
DTSTART:20250309T020000
RRULE:FREQ=YEARLY;BYDAY=2SU;BYMONTH=3
TZNAME:PDT
TZOFFSETFROM:-0800
TZOFFSETTO:-0700
END:DAYLIGHT
END:VTIMEZONE
BEGIN:VEVENT
DESCRIPTION:\nEvent link: https://thehivery.spaces.nexudus.com/en/events/vi
 ew/736062389/hivery-circle--a-live-storytelling-celebration-about-the-powe
 r-of-giving\n
DTEND;TZID=America/Los_Angeles:20181113T210000
DTSTAMP:20260422T094214Z
DTSTART;TZID=America/Los_Angeles:20181113T190000
LOCATION:The Hivery
SEQUENCE:0
SUMMARY:Hivery Circle: A Live Storytelling Celebration About The Power Of G
 iving
UID:afd0b768-28d3-4c1f-8ee2-a5d02fc46559
END:VEVENT
END:VCALENDAR
