BEGIN:VCALENDAR
PRODID:Nexudus
VERSION:2.0
BEGIN:VTIMEZONE
TZID:America/Los_Angeles
X-LIC-LOCATION:America/Los_Angeles
BEGIN:STANDARD
DTSTART:20241103T020000
RRULE:FREQ=YEARLY;BYDAY=1SU;BYMONTH=11
TZNAME:PST
TZOFFSETFROM:-0700
TZOFFSETTO:-0800
END:STANDARD
BEGIN:DAYLIGHT
DTSTART:20250309T020000
RRULE:FREQ=YEARLY;BYDAY=2SU;BYMONTH=3
TZNAME:PDT
TZOFFSETFROM:-0800
TZOFFSETTO:-0700
END:DAYLIGHT
END:VTIMEZONE
BEGIN:VEVENT
DESCRIPTION:\nEvent link: https://thehivery.spaces.nexudus.com/en/events/vi
 ew/559531984/love-posters-for-parkland\n
DTEND;TZID=America/Los_Angeles:20180226T153000
DTSTAMP:20260423T005107Z
DTSTART;TZID=America/Los_Angeles:20180226T133000
LOCATION:The Hivery
SEQUENCE:0
SUMMARY:Love Posters for Parkland 
UID:271704ba-91fc-461f-8334-0af644d79a80
END:VEVENT
END:VCALENDAR
